BEGIN:VCALENDAR
VERSION:2.0
PRODID:-//YourCompany//YourApp//EN
CALSCALE:GREGORIAN
METHOD:PUBLISH
BEGIN:VEVENT
UID:697998beb1b4d38f6ad1e3393e96ba3f@www.eventosaaoo.com.ar
DTSTAMP:20260425T114243Z
DTSTART:20261030T210000Z
DTEND:20261030T230000Z
SUMMARY:Curso Bianual 2026-2027  - INTEGRACION Y REPASO - CASOS PRACTICOS
DESCRIPTION:Ubicación: Sala Virtual \n\nEnlace: https://www.eventosaaoo.com.ar/sala-virtual
LOCATION:Sala Virtual 
END:VEVENT
END:VCALENDAR
