BEGIN:VCALENDAR
VERSION:2.0
PRODID:-//YourCompany//YourApp//EN
CALSCALE:GREGORIAN
METHOD:PUBLISH
BEGIN:VEVENT
UID:c5942cc083b1cefe51322746b6f1721b@www.eventosaaoo.com.ar
DTSTAMP:20260425T114641Z
DTSTART:20260925T210000Z
DTEND:20260925T230000Z
SUMMARY:Curso Bianual 2026-2027  - ENFERMEDADES HEMATOLOGICAS CON IMPACTO OSEO
DESCRIPTION:Docente Dr. Segura$1 Pablo\n\nUbicación: Sala Virtual \n\nEnlace: https://www.eventosaaoo.com.ar/sala-virtual
LOCATION:Sala Virtual 
END:VEVENT
END:VCALENDAR
