BEGIN:VCALENDAR
VERSION:2.0
PRODID:-//YourCompany//YourApp//EN
CALSCALE:GREGORIAN
METHOD:PUBLISH
BEGIN:VEVENT
UID:f1e581a63955b46b3beb015e3a279b09@www.eventosaaoo.com.ar
DTSTAMP:20260425T114237Z
DTSTART:20260828T210000Z
DTEND:20260828T230000Z
SUMMARY:Curso Bianual 2026-2027  - METASTASIS OSEAS
DESCRIPTION:Ubicación: Sala Virtual \n\nEnlace: https://www.eventosaaoo.com.ar/sala-virtual
LOCATION:Sala Virtual 
END:VEVENT
END:VCALENDAR
