BEGIN:VCALENDAR
VERSION:2.0
PRODID:-//YourCompany//YourApp//EN
CALSCALE:GREGORIAN
METHOD:PUBLISH
BEGIN:VEVENT
UID:9dd0e730f6e174c0c5a0737a1fec23b9@www.eventosaaoo.com.ar
DTSTAMP:20260425T113922Z
DTSTART:20260529T210000Z
DTEND:20260529T230000Z
SUMMARY:Curso Bianual 2026-2027  - CONDROSARCOMA
DESCRIPTION:Docente Dr. Lopez Millan$1 Lucas\n\nUbicación: Sala Virtual \n\nEnlace: https://www.eventosaaoo.com.ar/sala-virtual
LOCATION:Sala Virtual 
END:VEVENT
END:VCALENDAR
