BEGIN:VCALENDAR
VERSION:2.0
PRODID:-//YourCompany//YourApp//EN
CALSCALE:GREGORIAN
METHOD:PUBLISH
BEGIN:VEVENT
UID:9a15e47b13009ab10e2e19cff5de87a2@www.eventosaaoo.com.ar
DTSTAMP:20260425T113927Z
DTSTART:20260429T210000Z
DTEND:20260429T230000Z
SUMMARY:Curso Bianual 2026-2027  - OSTEOSARCOMA
DESCRIPTION:Docente Dr. Castiglioni$1 Alejandro\n\nUbicación: Sala Virtual \n\nEnlace: https://www.eventosaaoo.com.ar/sala-virtual
LOCATION:Sala Virtual 
END:VEVENT
END:VCALENDAR
