BEGIN:VCALENDAR
VERSION:2.0
PRODID:-//YourCompany//YourApp//EN
CALSCALE:GREGORIAN
METHOD:PUBLISH
BEGIN:VEVENT
UID:a06cd62fbdfe6aefebcc696159d38207@www.eventosaaoo.com.ar
DTSTAMP:20260425T113819Z
DTSTART:20260327T210000Z
DTEND:20260327T230000Z
SUMMARY:Curso Bianual 2026-2027  - RESUMEN DE GENERALIDADES (DIAGNÓSTICO$1 BIOPSIA$1 ESTADIFICACIÓN$1 MÁRGENES$1 TRATAMIENTO)
DESCRIPTION:(DIAGNÓSTICO$1 BIOPSIA$1 ESTADIFICACIÓN$1 MÁRGENES$1 TRATAMIENTO) Docente Dr. Amador$1 Pablo\n\nUbicación: Sala Virtual \n\nEnlace: https://www.eventosaaoo.com.ar/sala-virtual
LOCATION:Sala Virtual 
END:VEVENT
END:VCALENDAR
